BEGIN:VCALENDAR
VERSION:2.0
PRODID:-//SeniorCare Inc. - ECPv6.15.20//NONSGML v1.0//EN
CALSCALE:GREGORIAN
METHOD:PUBLISH
X-ORIGINAL-URL:https://seniorcareinc.org
X-WR-CALDESC:Events for SeniorCare Inc.
REFRESH-INTERVAL;VALUE=DURATION:PT1H
X-Robots-Tag:noindex
X-PUBLISHED-TTL:PT1H
BEGIN:VTIMEZONE
TZID:America/New_York
BEGIN:DAYLIGHT
TZOFFSETFROM:-0500
TZOFFSETTO:-0400
TZNAME:EDT
DTSTART:20240310T070000
END:DAYLIGHT
BEGIN:STANDARD
TZOFFSETFROM:-0400
TZOFFSETTO:-0500
TZNAME:EST
DTSTART:20241103T060000
END:STANDARD
BEGIN:DAYLIGHT
TZOFFSETFROM:-0500
TZOFFSETTO:-0400
TZNAME:EDT
DTSTART:20250309T070000
END:DAYLIGHT
BEGIN:STANDARD
TZOFFSETFROM:-0400
TZOFFSETTO:-0500
TZNAME:EST
DTSTART:20251102T060000
END:STANDARD
BEGIN:DAYLIGHT
TZOFFSETFROM:-0500
TZOFFSETTO:-0400
TZNAME:EDT
DTSTART:20260308T070000
END:DAYLIGHT
BEGIN:STANDARD
TZOFFSETFROM:-0400
TZOFFSETTO:-0500
TZNAME:EST
DTSTART:20261101T060000
END:STANDARD
END:VTIMEZONE
BEGIN:VEVENT
DTSTART;TZID=America/New_York:20250626T130000
DTEND;TZID=America/New_York:20250626T140000
DTSTAMP:20260425T074345
CREATED:20250610T141700Z
LAST-MODIFIED:20250610T141700Z
UID:10000307-1750942800-1750946400@seniorcareinc.org
SUMMARY:Housing Options Workshop
DESCRIPTION:Join Disability Resource Center for their monthly Housing Options Workshop on Thursday\, June 26\, 2025\, 1-2 pm\, for a presentation on the application process for affordable and subsidized housing in Massachusetts. Sign up at www.tinyurl.com/HOWjune25
URL:https://seniorcareinc.org/event/housing-options-workshop/
LOCATION:Virtual
CATEGORIES:Workshop
ATTACH;FMTTYPE=image/png:https://seniorcareinc.org/wp-content/uploads/2025/01/DisabilityResourceCtr-Horiz.png
ORGANIZER;CN="Disability Resource Center":MAILTO:information@Disabilityrc.org
END:VEVENT
END:VCALENDAR