BEGIN:VCALENDAR
VERSION:2.0
PRODID:-//SeniorCare Inc. - ECPv6.15.20//NONSGML v1.0//EN
CALSCALE:GREGORIAN
METHOD:PUBLISH
X-WR-CALNAME:SeniorCare Inc.
X-ORIGINAL-URL:https://seniorcareinc.org
X-WR-CALDESC:Events for SeniorCare Inc.
REFRESH-INTERVAL;VALUE=DURATION:PT1H
X-Robots-Tag:noindex
X-PUBLISHED-TTL:PT1H
BEGIN:VTIMEZONE
TZID:America/New_York
BEGIN:DAYLIGHT
TZOFFSETFROM:-0500
TZOFFSETTO:-0400
TZNAME:EDT
DTSTART:20230312T070000
END:DAYLIGHT
BEGIN:STANDARD
TZOFFSETFROM:-0400
TZOFFSETTO:-0500
TZNAME:EST
DTSTART:20231105T060000
END:STANDARD
BEGIN:DAYLIGHT
TZOFFSETFROM:-0500
TZOFFSETTO:-0400
TZNAME:EDT
DTSTART:20240310T070000
END:DAYLIGHT
BEGIN:STANDARD
TZOFFSETFROM:-0400
TZOFFSETTO:-0500
TZNAME:EST
DTSTART:20241103T060000
END:STANDARD
BEGIN:DAYLIGHT
TZOFFSETFROM:-0500
TZOFFSETTO:-0400
TZNAME:EDT
DTSTART:20250309T070000
END:DAYLIGHT
BEGIN:STANDARD
TZOFFSETFROM:-0400
TZOFFSETTO:-0500
TZNAME:EST
DTSTART:20251102T060000
END:STANDARD
END:VTIMEZONE
BEGIN:VEVENT
DTSTART;TZID=America/New_York:20240905T170000
DTEND;TZID=America/New_York:20240905T190000
DTSTAMP:20260425T073451
CREATED:20240819T144904Z
LAST-MODIFIED:20240819T153703Z
UID:10000180-1725555600-1725562800@seniorcareinc.org
SUMMARY:Premier Showing of "In Life"
DESCRIPTION:In Life\, a documentary about people living longer\, thriving in life\, exemplars of positive age beliefs\, will premier on Thursday\, September 5\, 2024\, 5–7 pm at the Shalin Liu Performing Arts Center. Support for the film came through a grant from the Law Stroud Foundation. \nThe event is free to the public. Seats will be first come\, first serve. Audiences of all ages are widely welcomed\, including film lovers\, artists\, art appreciators\, musicians and anyone interested in how living well in later years can continue to center on pursuits most important to us in our younger years. \nMore information.
URL:https://seniorcareinc.org/event/premier-showing-of-in-life/
LOCATION:Shalin Liu Performance Center\, 37 Main Street\, Rockport\, MA\, 01966\, United States
CATEGORIES:Celebration,Relaxation/Entertainment
ATTACH;FMTTYPE=image/png:https://seniorcareinc.org/wp-content/uploads/2024/08/InLifeMovie2024.png
END:VEVENT
END:VCALENDAR