BEGIN:VCALENDAR
VERSION:2.0
PRODID:-//SeniorCare Inc. - ECPv6.15.20//NONSGML v1.0//EN
CALSCALE:GREGORIAN
METHOD:PUBLISH
X-ORIGINAL-URL:https://seniorcareinc.org
X-WR-CALDESC:Events for SeniorCare Inc.
REFRESH-INTERVAL;VALUE=DURATION:PT1H
X-Robots-Tag:noindex
X-PUBLISHED-TTL:PT1H
BEGIN:VTIMEZONE
TZID:America/New_York
BEGIN:DAYLIGHT
TZOFFSETFROM:-0500
TZOFFSETTO:-0400
TZNAME:EDT
DTSTART:20230312T070000
END:DAYLIGHT
BEGIN:STANDARD
TZOFFSETFROM:-0400
TZOFFSETTO:-0500
TZNAME:EST
DTSTART:20231105T060000
END:STANDARD
BEGIN:DAYLIGHT
TZOFFSETFROM:-0500
TZOFFSETTO:-0400
TZNAME:EDT
DTSTART:20240310T070000
END:DAYLIGHT
BEGIN:STANDARD
TZOFFSETFROM:-0400
TZOFFSETTO:-0500
TZNAME:EST
DTSTART:20241103T060000
END:STANDARD
BEGIN:DAYLIGHT
TZOFFSETFROM:-0500
TZOFFSETTO:-0400
TZNAME:EDT
DTSTART:20250309T070000
END:DAYLIGHT
BEGIN:STANDARD
TZOFFSETFROM:-0400
TZOFFSETTO:-0500
TZNAME:EST
DTSTART:20251102T060000
END:STANDARD
END:VTIMEZONE
BEGIN:VEVENT
DTSTART;TZID=America/New_York:20241120T143000
DTEND;TZID=America/New_York:20241120T160000
DTSTAMP:20260421T092754
CREATED:20241104T210451Z
LAST-MODIFIED:20241104T210451Z
UID:10000224-1732113000-1732118400@seniorcareinc.org
SUMMARY:LGBTQIA+ Seniors Listening Session
DESCRIPTION:Wednesday\, November 20\, 2024\n2:30 pm – 4:00 pm\nCape Ann Savings Bank Community Room\n(109 Main St\, Gloucester) \nSeniorCare and North Shore Health Project invite you to a listening session. During this session\, individuals can share their thoughts\, experiences\, and suggestions\, moderated by Brian King\, North Shore Health Project Medical Case Manager. The purpose is to understand diverse perspectives\, identify areas for improvement\, and foster collaboration for seniors in the LGBTQIA+ community. \nInformation: Jai Fields\, 978-281-1750
URL:https://seniorcareinc.org/event/lgbtqia-seniors-listening-session/
LOCATION:Cape Ann Savings Bank Community Room\, 109 Main St\, Gloucester\, MA\, 01930
CATEGORIES:Information
ATTACH;FMTTYPE=image/jpeg:https://seniorcareinc.org/wp-content/uploads/2024/11/2024-LGBTQIA-Listening-Session-01.jpg
END:VEVENT
END:VCALENDAR