BEGIN:VCALENDAR
VERSION:2.0
PRODID:-//SeniorCare Inc. - ECPv6.15.20//NONSGML v1.0//EN
CALSCALE:GREGORIAN
METHOD:PUBLISH
X-ORIGINAL-URL:https://seniorcareinc.org
X-WR-CALDESC:Events for SeniorCare Inc.
REFRESH-INTERVAL;VALUE=DURATION:PT1H
X-Robots-Tag:noindex
X-PUBLISHED-TTL:PT1H
BEGIN:VTIMEZONE
TZID:America/New_York
BEGIN:DAYLIGHT
TZOFFSETFROM:-0500
TZOFFSETTO:-0400
TZNAME:EDT
DTSTART:20230312T070000
END:DAYLIGHT
BEGIN:STANDARD
TZOFFSETFROM:-0400
TZOFFSETTO:-0500
TZNAME:EST
DTSTART:20231105T060000
END:STANDARD
BEGIN:DAYLIGHT
TZOFFSETFROM:-0500
TZOFFSETTO:-0400
TZNAME:EDT
DTSTART:20240310T070000
END:DAYLIGHT
BEGIN:STANDARD
TZOFFSETFROM:-0400
TZOFFSETTO:-0500
TZNAME:EST
DTSTART:20241103T060000
END:STANDARD
BEGIN:DAYLIGHT
TZOFFSETFROM:-0500
TZOFFSETTO:-0400
TZNAME:EDT
DTSTART:20250309T070000
END:DAYLIGHT
BEGIN:STANDARD
TZOFFSETFROM:-0400
TZOFFSETTO:-0500
TZNAME:EST
DTSTART:20251102T060000
END:STANDARD
END:VTIMEZONE
BEGIN:VEVENT
DTSTART;TZID=America/New_York:20240417T120000
DTEND;TZID=America/New_York:20240417T140000
DTSTAMP:20260423T035246
CREATED:20240327T201633Z
LAST-MODIFIED:20240327T202121Z
UID:10000019-1713355200-1713362400@seniorcareinc.org
SUMMARY:Tech Goes Home Free Computer Class
DESCRIPTION:FREE Computer Class\nWednesdays & Fridays\, April 17 – May 3\, 2024\, 12-2 pm\nCaroline Avenue Apartments Community Room\, Essex \nParticipants will learn fundamental digital skills such as \n\nusing popular applications and the internet as resources\ncommunicating with loved ones virtually\naccessing essential goods and services online\nstaying up to date with healthy and safety information\nother programs and resources for school\, work\, and play!\n\nTech Goes Home includes \n\nat least 15 hours live online course with a trainer\na program designed to help you access online resources\na brand new chromebook for FREE upon completion of course\nassistance in signing up for low-cost Internet\n\nSpace is limited and registration is required. For information or to register\, call 978-281-1750 x-567. \n 
URL:https://seniorcareinc.org/event/tech-goes-home-free-computer-class/
LOCATION:Caroline Avenue Apartments Community Room\, Caroline Ave\, Essex\, MA
CATEGORIES:Workshop
ATTACH;FMTTYPE=image/png:https://seniorcareinc.org/wp-content/uploads/2024/03/classroom-banner.png
END:VEVENT
END:VCALENDAR